BEGIN:VCALENDAR
VERSION:2.0
PRODID:-//Minnesota Interfaith Power &amp; Light - ECPv6.15.20//NONSGML v1.0//EN
CALSCALE:GREGORIAN
METHOD:PUBLISH
X-WR-CALNAME:Minnesota Interfaith Power &amp; Light
X-ORIGINAL-URL:https://www.mnipl.org
X-WR-CALDESC:Events for Minnesota Interfaith Power &amp; Light
REFRESH-INTERVAL;VALUE=DURATION:PT1H
X-Robots-Tag:noindex
X-PUBLISHED-TTL:PT1H
BEGIN:VTIMEZONE
TZID:America/Chicago
BEGIN:DAYLIGHT
TZOFFSETFROM:-0600
TZOFFSETTO:-0500
TZNAME:CDT
DTSTART:20250309T080000
END:DAYLIGHT
BEGIN:STANDARD
TZOFFSETFROM:-0500
TZOFFSETTO:-0600
TZNAME:CST
DTSTART:20251102T070000
END:STANDARD
BEGIN:DAYLIGHT
TZOFFSETFROM:-0600
TZOFFSETTO:-0500
TZNAME:CDT
DTSTART:20260308T080000
END:DAYLIGHT
BEGIN:STANDARD
TZOFFSETFROM:-0500
TZOFFSETTO:-0600
TZNAME:CST
DTSTART:20261101T070000
END:STANDARD
BEGIN:DAYLIGHT
TZOFFSETFROM:-0600
TZOFFSETTO:-0500
TZNAME:CDT
DTSTART:20270314T080000
END:DAYLIGHT
BEGIN:STANDARD
TZOFFSETFROM:-0500
TZOFFSETTO:-0600
TZNAME:CST
DTSTART:20271107T070000
END:STANDARD
END:VTIMEZONE
BEGIN:VEVENT
DTSTART;TZID=America/Chicago:20260422T133000
DTEND;TZID=America/Chicago:20260422T150000
DTSTAMP:20260422T034635
CREATED:20260420T185137Z
LAST-MODIFIED:20260420T185137Z
UID:10001394-1776864600-1776870000@www.mnipl.org
SUMMARY:Data Center Moratorium Now: Earth Day of Action at the Capitol
DESCRIPTION:Concerned Minnesotans are opposing hyperscale data center projects in local towns\, cities\, and counties across the state.\n\nWith more than 20 active hyperscale data center proposals in Minnesota\, the “Data Center Bill” passed in the 2025 special session falls short of creating a comprehensive regulatory framework to adequately address the impact of these projects.\n\nThe 2026 legislative session ends May 17th\, and we need lawmakers to act NOW on behalf of the people\, NOT the Big Tech billionaires behind these projects.\n\nJoin Rise & Repair on the afternoon of Earth Day (April 22nd\, 2026) for a Community Hearing on Hyperscale Data Centers in the rotunda featuring testimony from impacted constituents\, concerned residents & policy experts asking lawmakers for immediate action on data centers before session concludes.\n\nTo Our Lawmakers: Listen\, Learn & Legislate – We need a Data Center Moratorium NOW!\n\nOUTLINE OF THE DAY\n10-11am: Friends of the Boundary Waters Wilderness Earth Day Rally12-1pm: Lunch & Gathering on the South Steps / Promenade1:30-3pm: Data Center Public Hearing in the Rotunda\nConvened by the Rise & Repair Alliance\, this community organizing effort has been put forward by Stop the Hermantown Data Center\, Coalition for Responsible Data Center Development\, Stop the Pine Island Data Center\, CURE\, Minnesota Center for Environmental Advocacy MNIPL\, MUKWA\, Friends of the Boundary Waters Wilderness\, Third Act! MN\, Vote Solar\, Clean Water Action and more.\n\nClick here to learn more!
URL:https://www.mnipl.org/event/data-center-moratorium/
LOCATION:Minnesota State Capitol\, 75 Rev Dr Martin Luther King Jr Blvd\, Saint Paul\, MN\, 55155
ATTACH;FMTTYPE=image/jpeg:https://www.mnipl.org/wp-content/uploads/RiseAndRepair-EarthDay2026-DataCenters-Cover-1600px.jpeg
ORGANIZER;CN="Rise & Repair":MAILTO:info@riseandrepair.org
END:VEVENT
END:VCALENDAR