BEGIN:VCALENDAR
VERSION:2.0
PRODID:-//Minnesota Interfaith Power &amp; Light - ECPv6.15.20//NONSGML v1.0//EN
CALSCALE:GREGORIAN
METHOD:PUBLISH
X-WR-CALNAME:Minnesota Interfaith Power &amp; Light
X-ORIGINAL-URL:https://www.mnipl.org
X-WR-CALDESC:Events for Minnesota Interfaith Power &amp; Light
REFRESH-INTERVAL;VALUE=DURATION:PT1H
X-Robots-Tag:noindex
X-PUBLISHED-TTL:PT1H
BEGIN:VTIMEZONE
TZID:America/Chicago
BEGIN:DAYLIGHT
TZOFFSETFROM:-0600
TZOFFSETTO:-0500
TZNAME:CDT
DTSTART:20230312T080000
END:DAYLIGHT
BEGIN:STANDARD
TZOFFSETFROM:-0500
TZOFFSETTO:-0600
TZNAME:CST
DTSTART:20231105T070000
END:STANDARD
BEGIN:DAYLIGHT
TZOFFSETFROM:-0600
TZOFFSETTO:-0500
TZNAME:CDT
DTSTART:20240310T080000
END:DAYLIGHT
BEGIN:STANDARD
TZOFFSETFROM:-0500
TZOFFSETTO:-0600
TZNAME:CST
DTSTART:20241103T070000
END:STANDARD
BEGIN:DAYLIGHT
TZOFFSETFROM:-0600
TZOFFSETTO:-0500
TZNAME:CDT
DTSTART:20250309T080000
END:DAYLIGHT
BEGIN:STANDARD
TZOFFSETFROM:-0500
TZOFFSETTO:-0600
TZNAME:CST
DTSTART:20251102T070000
END:STANDARD
END:VTIMEZONE
BEGIN:VEVENT
DTSTART;TZID=America/Chicago:20240711T120000
DTEND;TZID=America/Chicago:20240711T130000
DTSTAMP:20260423T051422
CREATED:20240617T170345Z
LAST-MODIFIED:20240617T170345Z
UID:10001307-1720699200-1720702800@www.mnipl.org
SUMMARY:Clean Heat by 2040: What will it take to get there?
DESCRIPTION:Minnesota has made a commitment to being carbon-free in our electricity production\, but many of us are still using natural gas to heat our homes. Despite the fact that there are more sustainable ways to keep our homes warm like heat pumps or electric heat\, most of the policy and physical infrastructure in our state makes methane gas the norm.\n \nJoin us for a conversation about what it would take to get to clean heat by 2040\, from a formal state commitment to changing local ordinances around gas lines. This will need to be a long-term process in multiple arenas\, and we need your help! \nCLICK HERE TO RSVP
URL:https://www.mnipl.org/event/clean_heat/
LOCATION:Zoom
CATEGORIES:Policy & Advocacy
ATTACH;FMTTYPE=image/png:https://www.mnipl.org/wp-content/uploads/Clean-Heat-by-2040.png
ORGANIZER;CN="Sara Wolff":MAILTO:sara@mnipl.org
END:VEVENT
BEGIN:VEVENT
DTSTART;TZID=America/Chicago:20240718T120000
DTEND;TZID=America/Chicago:20240718T130000
DTSTAMP:20260423T051422
CREATED:20240617T170624Z
LAST-MODIFIED:20240618T203159Z
UID:10001308-1721304000-1721307600@www.mnipl.org
SUMMARY:How is Climate Change Affecting Our Investments?
DESCRIPTION:We know that climate disruption is having an effect on both our present and our future\, but many of the places where we and our state are investing money aren’t taking those realities into account. In fact\, 17 states across the county\, influenced by fossil fuel interests\, have passed laws barring their State Investment Boards from considering risks like climate change. Not only is this bad news for the environment\, but it’s bad news for those pension-holders. \nPlease join us for a webinar on the ways in which we explore the ways climate disruption is affecting investments\, and how those risks are passed on to consumers! \nCLICK HERE TO RSVP
URL:https://www.mnipl.org/event/investments/
LOCATION:Zoom
CATEGORIES:Policy & Advocacy
ATTACH;FMTTYPE=image/png:https://www.mnipl.org/wp-content/uploads/Investments.png
ORGANIZER;CN="Sara Wolff":MAILTO:sara@mnipl.org
END:VEVENT
END:VCALENDAR