BEGIN:VCALENDAR
VERSION:2.0
PRODID:-//Minnesota Interfaith Power &amp; Light - ECPv6.15.20//NONSGML v1.0//EN
CALSCALE:GREGORIAN
METHOD:PUBLISH
X-WR-CALNAME:Minnesota Interfaith Power &amp; Light
X-ORIGINAL-URL:https://www.mnipl.org
X-WR-CALDESC:Events for Minnesota Interfaith Power &amp; Light
REFRESH-INTERVAL;VALUE=DURATION:PT1H
X-Robots-Tag:noindex
X-PUBLISHED-TTL:PT1H
BEGIN:VTIMEZONE
TZID:America/Chicago
BEGIN:DAYLIGHT
TZOFFSETFROM:-0600
TZOFFSETTO:-0500
TZNAME:CDT
DTSTART:20230312T080000
END:DAYLIGHT
BEGIN:STANDARD
TZOFFSETFROM:-0500
TZOFFSETTO:-0600
TZNAME:CST
DTSTART:20231105T070000
END:STANDARD
BEGIN:DAYLIGHT
TZOFFSETFROM:-0600
TZOFFSETTO:-0500
TZNAME:CDT
DTSTART:20240310T080000
END:DAYLIGHT
BEGIN:STANDARD
TZOFFSETFROM:-0500
TZOFFSETTO:-0600
TZNAME:CST
DTSTART:20241103T070000
END:STANDARD
BEGIN:DAYLIGHT
TZOFFSETFROM:-0600
TZOFFSETTO:-0500
TZNAME:CDT
DTSTART:20250309T080000
END:DAYLIGHT
BEGIN:STANDARD
TZOFFSETFROM:-0500
TZOFFSETTO:-0600
TZNAME:CST
DTSTART:20251102T070000
END:STANDARD
END:VTIMEZONE
BEGIN:VEVENT
DTSTART;TZID=America/Chicago:20240808T120000
DTEND;TZID=America/Chicago:20240808T130000
DTSTAMP:20260423T040001
CREATED:20240617T170843Z
LAST-MODIFIED:20240618T203246Z
UID:10001309-1723118400-1723122000@www.mnipl.org
SUMMARY:Better Bonding for Better Buildings
DESCRIPTION:Innovation in building materials techniques is on the rise – from carbon-free cement and steel to fossil-fuel-free heating. Can we use our state bonding investments to start to build better?  \nPlease join us for a webinar about how we can use state bonding investments to build better now while spurring industry advancements! \nCLICK HERE TO RSVP
URL:https://www.mnipl.org/event/better_buildings/
LOCATION:Zoom
CATEGORIES:Policy & Advocacy
ATTACH;FMTTYPE=image/png:https://www.mnipl.org/wp-content/uploads/Better-Bonding.png
ORGANIZER;CN="Sara Wolff":MAILTO:sara@mnipl.org
END:VEVENT
END:VCALENDAR