BEGIN:VCALENDAR
VERSION:2.0
PRODID:-//Minnesota Interfaith Power &amp; Light - ECPv6.15.20//NONSGML v1.0//EN
CALSCALE:GREGORIAN
METHOD:PUBLISH
X-WR-CALNAME:Minnesota Interfaith Power &amp; Light
X-ORIGINAL-URL:https://www.mnipl.org
X-WR-CALDESC:Events for Minnesota Interfaith Power &amp; Light
REFRESH-INTERVAL;VALUE=DURATION:PT1H
X-Robots-Tag:noindex
X-PUBLISHED-TTL:PT1H
BEGIN:VTIMEZONE
TZID:America/Chicago
BEGIN:DAYLIGHT
TZOFFSETFROM:-0600
TZOFFSETTO:-0500
TZNAME:CDT
DTSTART:20230312T080000
END:DAYLIGHT
BEGIN:STANDARD
TZOFFSETFROM:-0500
TZOFFSETTO:-0600
TZNAME:CST
DTSTART:20231105T070000
END:STANDARD
BEGIN:DAYLIGHT
TZOFFSETFROM:-0600
TZOFFSETTO:-0500
TZNAME:CDT
DTSTART:20240310T080000
END:DAYLIGHT
BEGIN:STANDARD
TZOFFSETFROM:-0500
TZOFFSETTO:-0600
TZNAME:CST
DTSTART:20241103T070000
END:STANDARD
BEGIN:DAYLIGHT
TZOFFSETFROM:-0600
TZOFFSETTO:-0500
TZNAME:CDT
DTSTART:20250309T080000
END:DAYLIGHT
BEGIN:STANDARD
TZOFFSETFROM:-0500
TZOFFSETTO:-0600
TZNAME:CST
DTSTART:20251102T070000
END:STANDARD
BEGIN:DAYLIGHT
TZOFFSETFROM:-0600
TZOFFSETTO:-0500
TZNAME:CDT
DTSTART:20260308T080000
END:DAYLIGHT
BEGIN:STANDARD
TZOFFSETFROM:-0500
TZOFFSETTO:-0600
TZNAME:CST
DTSTART:20261101T070000
END:STANDARD
END:VTIMEZONE
BEGIN:VEVENT
DTSTART;TZID=America/Chicago:20240808T120000
DTEND;TZID=America/Chicago:20240808T130000
DTSTAMP:20260424T184208
CREATED:20240617T170843Z
LAST-MODIFIED:20240618T203246Z
UID:10001309-1723118400-1723122000@www.mnipl.org
SUMMARY:Better Bonding for Better Buildings
DESCRIPTION:Innovation in building materials techniques is on the rise – from carbon-free cement and steel to fossil-fuel-free heating. Can we use our state bonding investments to start to build better?  \nPlease join us for a webinar about how we can use state bonding investments to build better now while spurring industry advancements! \nCLICK HERE TO RSVP
URL:https://www.mnipl.org/event/better_buildings/
LOCATION:Zoom
CATEGORIES:Policy & Advocacy
ATTACH;FMTTYPE=image/png:https://www.mnipl.org/wp-content/uploads/Better-Bonding.png
ORGANIZER;CN="Sara Wolff":MAILTO:sara@mnipl.org
END:VEVENT
BEGIN:VEVENT
DTSTART;TZID=America/Chicago:20240905T180000
DTEND;TZID=America/Chicago:20240905T193000
DTSTAMP:20260424T184208
CREATED:20240823T160459Z
LAST-MODIFIED:20240823T160459Z
UID:10001312-1725559200-1725564600@www.mnipl.org
SUMMARY:People Not Polluters Webinar
DESCRIPTION:MNIPL is part of a new project called People Not Polluters to highlight serious regulatory failures and show that Minnesota state agencies are not living up to their responsibilities. Join us for an informational webinar & build power for People Not Polluters! \nAt this webinar\, we’ll introduce the importance of this project\, define and share characteristics of “polluter capture\,” and hear from experts and community members about how this issue has impacted their lives and advocacy for strong environmental protections. There will be an audience Q & A as well as information on how to take collective action. \nTogether\, we’re building pressure to ask our State Legislators to make agencies do right by Minnesotans and stop giving in to polluters. \nCLICK HERE TO RSVP to this event hosted by Sierra Club!
URL:https://www.mnipl.org/event/people-not-polluters-webinar/
LOCATION:Zoom
CATEGORIES:Policy & Advocacy
ATTACH;FMTTYPE=image/png:https://www.mnipl.org/wp-content/uploads/People-Not-Polluters-Webinar-meme.png
END:VEVENT
BEGIN:VEVENT
DTSTART;TZID=America/Chicago:20240912T180000
DTEND;TZID=America/Chicago:20240912T190000
DTSTAMP:20260424T184208
CREATED:20240829T192216Z
LAST-MODIFIED:20240829T192216Z
UID:10001313-1726164000-1726167600@www.mnipl.org
SUMMARY:Vote for Climate: Using Relational Organizing to Get Your Communities Activated This November
DESCRIPTION:Elections are critical to making sure that our state and country are committed to repairing the harm of climate change and to building towards a green and interdependent future. In this critical time\, we need people like you and people you know\, people who care about this world and everything that lives here\, to vote in November. \nThe most effective way to get folks to the polls is when someone they know and trust shares why this election is important and helps them make a plan. \nJoin us for a training on relational organizing\, a tool that helps us reach out to people in our communities to get them to vote for people who care about the things they care about: policies that support a green future and authentic repair for the harms of climate change. \nThis session will offer concrete tools for you to make a plan to vote\, tell your story about your commitment to addressing climate change\, and help your loved ones get to the polls. \nCLICK HERE TO RSVP!
URL:https://www.mnipl.org/event/vote_climate_online/
LOCATION:Zoom
CATEGORIES:Policy & Advocacy
ATTACH;FMTTYPE=image/png:https://www.mnipl.org/wp-content/uploads/GOTV-Relational-Organizing-2024.png
END:VEVENT
BEGIN:VEVENT
DTSTART;TZID=America/Chicago:20241002T110000
DTEND;TZID=America/Chicago:20241002T120000
DTSTAMP:20260424T184208
CREATED:20240918T192758Z
LAST-MODIFIED:20240918T192758Z
UID:10001321-1727866800-1727870400@www.mnipl.org
SUMMARY:Policy Solutions for the Home Insurance Crisis
DESCRIPTION:Our friends at the Climate & Community Institute are hosting a conversation to discuss policy proposals for the mounting home insurance crisis rooted in new research findings on the insurance and housing markets. \nPanelists will include legislators\, advocates and policy researchers from Florida\, Minnesota\, and California\, including MNIPL’s Julia Nerbonne! \nCLICK HERE TO REGISTER!
URL:https://www.mnipl.org/event/insurance-crisis/
LOCATION:Zoom
CATEGORIES:Policy & Advocacy
ATTACH;FMTTYPE=image/png:https://www.mnipl.org/wp-content/uploads/Policy-Solutions-for-Home-Insurance-Crisis.png
END:VEVENT
BEGIN:VEVENT
DTSTART;TZID=America/Chicago:20241008T173000
DTEND;TZID=America/Chicago:20241008T183000
DTSTAMP:20260424T184208
CREATED:20240925T154429Z
LAST-MODIFIED:20241004T221214Z
UID:10001322-1728408600-1728412200@www.mnipl.org
SUMMARY:Vote for Climate: Using Relational Organizing to Get Out the Vote with Sen. Zaynab Mohamed
DESCRIPTION:Elections are critical to making sure that our state and country are committed to repairing the harms of climate change and to building towards a green and interdependent future. In this important time\, we need people like you and people you know – people who care about this world and everything that lives here – to vote in November. \nThe most effective way to get folks to the polls is when someone they know and trust shares why this election is important and helps them make a plan. That’s why MNIPL is holding a series of events in October to help people like you get their friends and neighbors to vote in November! \nJoin Senator Zaynab Mohamed\, Mayflower Church\, and MNIPL for a conversation about relational organizing\, a tool that helps us reach out to people in our communities to get them to vote for people who care about the things we care about: policies that support a green future and authentic repair for the harms of climate change. \nThis session will offer concrete tools for you to make a plan to vote\, tell your story about your commitment to addressing climate change\, and help your loved ones get to the polls. \nCLICK HERE TO RSVP!
URL:https://www.mnipl.org/event/vote-for-climate-using-relational-organizing-to-get-out-the-vote-with-sen-zaynab-mohamed/
LOCATION:Mayflower Church\, 106 E Diamond Lake Rd\, Minneapolis\, MN\, 55419\, United States
CATEGORIES:Policy & Advocacy
ATTACH;FMTTYPE=image/png:https://www.mnipl.org/wp-content/uploads/Vote-for-Climate-Sen-Mohamed.png
END:VEVENT
BEGIN:VEVENT
DTSTART;TZID=America/Chicago:20241016T173000
DTEND;TZID=America/Chicago:20241016T183000
DTSTAMP:20260424T184208
CREATED:20241003T170122Z
LAST-MODIFIED:20241004T220901Z
UID:10001324-1729099800-1729103400@www.mnipl.org
SUMMARY:Vote for Climate: Using Relational Organizing to Get Out the Vote with Sen. Omar Fateh
DESCRIPTION:Elections are critical to making sure that our state and country are committed to repairing the harms of climate change and to building towards a green and interdependent future. In this important time\, we need people like you and people you know – people who care about this world and everything that lives here – to vote in November. \nThe most effective way to get folks to the polls is when someone they know and trust shares why this election is important and helps them make a plan. That’s why MNIPL is holding a series of events in October to help people like you get their friends and neighbors to vote in November! \nJoin Sen. Omar Fateh and MNIPL for a conversation about relational organizing\, a tool that helps us reach out to people in our communities to get them to vote for people who care about the things we care about: policies that support a green future and authentic repair for the harms of climate change. \nThis session will offer concrete tools for you to make a plan to vote\, tell your story about your commitment to addressing climate change\, and help your loved ones get to the polls. \nCLICK HERE TO RSVP!
URL:https://www.mnipl.org/event/vote-for-climate-fateh/
LOCATION:MNIPL Office\, 4407 E Lake St\, Minneapolis\, MN\, 55406
CATEGORIES:Policy & Advocacy
ATTACH;FMTTYPE=image/png:https://www.mnipl.org/wp-content/uploads/Vote-for-Climate-Sen.-Omar-Fateh.png
END:VEVENT
BEGIN:VEVENT
DTSTART;TZID=America/Chicago:20241023T173000
DTEND;TZID=America/Chicago:20241023T183000
DTSTAMP:20260424T184208
CREATED:20241003T170923Z
LAST-MODIFIED:20241012T150858Z
UID:10001325-1729704600-1729708200@www.mnipl.org
SUMMARY:Vote for Climate: Using Relational Organizing to Get Out the Vote with Rep. Esther Agabje
DESCRIPTION:Elections are critical to making sure that our state and country are committed to repairing the harms of climate change and to building towards a green and interdependent future. In this important time\, we need people like you and people you know – people who care about this world and everything that lives here – to vote in November. \nThe most effective way to get folks to the polls is when someone they know and trust shares why this election is important and helps them make a plan. That’s why MNIPL is holding a series of events in October to help people like you get their friends and neighbors to vote in November! \nJoin Rep. Esther Agabje and MNIPL for a conversation about relational organizing\, a tool that helps us reach out to people in our communities to get them to vote for people who care about the things we care about: policies that support a green future and authentic repair for the harms of climate change. \nThis session will offer concrete tools for you to make a plan to vote\, tell your story about your commitment to addressing climate change\, and help your loved ones get to the polls. \nCLICK HERE TO RSVP!
URL:https://www.mnipl.org/event/vote-for-climate-sen-agbaje/
LOCATION:V3 Sports\, 701 Plymouth Ave N\, Minneapolis\, MN\, 55411\, United States
CATEGORIES:Policy & Advocacy
ATTACH;FMTTYPE=image/png:https://www.mnipl.org/wp-content/uploads/Vote-for-Climate-Rep-Esther-Agbaje-date-location.png
END:VEVENT
BEGIN:VEVENT
DTSTART;TZID=America/Chicago:20241113T170000
DTEND;TZID=America/Chicago:20241113T193000
DTSTAMP:20260424T184208
CREATED:20241031T170425Z
LAST-MODIFIED:20241107T161958Z
UID:10001326-1731517200-1731526200@www.mnipl.org
SUMMARY:So What Comes Next? A Post-Election Debrief
DESCRIPTION:President Donald Trump’s return to the White House and changes in our state government will have a big impact on our work and our communities. As we figure out what comes next\, it’s important for us to continue to build and nurture interconnected relationships with folks who care about our world and people who live in it. \nJoin us on Wednesday\, November 13 for a statewide online conversation about how this election has affected us and how we can continue to push forward with our work. If you’re local\, we’re inviting people into our space to join the call together with an open house before hand. \nCLICK HERE TO RSVP TO ATTEND IN PERSON \nCLICK HERE TO RSVP TO ATTEND VIRTUALLY 
URL:https://www.mnipl.org/event/post-election-debrief/
LOCATION:Zoom
CATEGORIES:Policy & Advocacy
ATTACH;FMTTYPE=image/png:https://www.mnipl.org/wp-content/uploads/2024-Post-Election-Debrief.png
ORGANIZER;CN="Makayla Freeman":MAILTO:makayla@mnipl.org
END:VEVENT
BEGIN:VEVENT
DTSTART;TZID=America/Chicago:20241207T183000
DTEND;TZID=America/Chicago:20241207T203000
DTSTAMP:20260424T184208
CREATED:20241101T170219Z
LAST-MODIFIED:20241101T170219Z
UID:10001327-1733596200-1733603400@www.mnipl.org
SUMMARY:Rise & Repair 2025 Kickoff and Fundraiser
DESCRIPTION:Join MNIPL and partner organizations for the 2025 kickoff of the Rise & Repair Alliance advancing Climate Justice & Indigenous Rights during the upcoming legislative session! \nWe’ll spend the evening hours of Saturday\, December 7th at New City Center / Walker Methodist Church in South Minneapolis getting to know each other and learning about the issues and opportunities coming up ~ regardless of the outcome of the election! \nMore details and info coming soon. \nCLICK HERE TO RSVP! \nPS: Interested in helping organize this event? Curious about how to engage with Rise & Repair as a community connector during this year’s legislative session? Have resources you’d like to contribute? Drop a message to eoin@riseandrepair.org! 
URL:https://www.mnipl.org/event/rise-repair-kickoff/
LOCATION:New City Center/Walker United Methodist Church\, 3104 16th Ave S\, Minneapolis\, Minnesota\, 55407\, United States
CATEGORIES:Policy & Advocacy
ATTACH;FMTTYPE=image/jpeg:https://www.mnipl.org/wp-content/uploads/RiseAndRepair-Event-Cover-Dec7Kickoff-1600x900-1.jpg
ORGANIZER;CN="Rise & Repair":MAILTO:info@riseandrepair.org
END:VEVENT
BEGIN:VEVENT
DTSTART;TZID=America/Chicago:20241218T130000
DTEND;TZID=America/Chicago:20241218T140000
DTSTAMP:20260424T184208
CREATED:20241212T154654Z
LAST-MODIFIED:20241212T161352Z
UID:10001355-1734526800-1734530400@www.mnipl.org
SUMMARY:It's Like 1\,000 New Coal Plants: The Risks of Liquefied Natural Gas
DESCRIPTION:Join us for It’s Like 1\,000 New Coal Plants: The Risks of Liquefied Natural Gas\, a conversation with national liquefied natural gas (LGN) expert Jeremy Symons about the perils of multiple proposals being considered by the outgoing Biden administration.\n\nSymons will explain  \n\nWhat LNG is and why we are exporting it\nHow exports of LNG raise the price for natural gas customers in the U.S.\nThe emissions impact of current and proposed LNG operations\nOpportunities for weighing in on LNG decisions by the current and future administrations\n\nCLICK HERE TO RSVP AND ACCESS THE ZOOM LINK!
URL:https://www.mnipl.org/event/lgn-webinar/
LOCATION:Zoom
CATEGORIES:Policy & Advocacy
ATTACH;FMTTYPE=image/png:https://www.mnipl.org/wp-content/uploads/Liquefied-Natural-Gas-Webinar-Updated.png
ORGANIZER;CN="Sara Wolff":MAILTO:sara@mnipl.org
END:VEVENT
BEGIN:VEVENT
DTSTART;TZID=America/Chicago:20250128T190000
DTEND;TZID=America/Chicago:20250128T200000
DTSTAMP:20260424T184209
CREATED:20250124T172729Z
LAST-MODIFIED:20250124T172729Z
UID:10001358-1738090800-1738094400@www.mnipl.org
SUMMARY:Protecting Manoomin/Psíŋ (Wild Rice) Training Webinar
DESCRIPTION:Join the Rise & Repair Allinace for a collaborative webinar/workshop around protecting Wild Rice known as Manoomin to the Anishinaabe and Psiŋ to the Dakota. This one-hour webinar/workshop will walk through an active effort to protect this relative and include breakouts to explore ways we can work together to protect “Minnesota’s State Grain”. \nRSVP is required – we will provide an email with Zoom details to those who have RSVP’d ahead of the event! \nCLICK HERE TO RSVP!
URL:https://www.mnipl.org/event/wild-rice-webinar/
LOCATION:Zoom
CATEGORIES:Policy & Advocacy
ATTACH;FMTTYPE=image/jpeg:https://www.mnipl.org/wp-content/uploads/ManoominPsin-Webinar.jpg
ORGANIZER;CN="Rise & Repair":MAILTO:info@riseandrepair.org
END:VEVENT
BEGIN:VEVENT
DTSTART;TZID=America/Chicago:20250312T100000
DTEND;TZID=America/Chicago:20250312T160000
DTSTAMP:20260424T184209
CREATED:20250228T163633Z
LAST-MODIFIED:20250228T163633Z
UID:10001360-1741773600-1741795200@www.mnipl.org
SUMMARY:Rise & Repair 2025 Rally + Lobby Day
DESCRIPTION:Join us on Wednesday\, March 12th at the Minnesota State Capitol for a powerful day of gathering and community action. We are coming together at a pivotal moment in our nation’s history—one that demands each of us to stand up for climate justice and the well-being of ALL our relations.\nRecent actions by the Federal government threaten to unravel decades of organizing for climate justice ~ we must turn our collective grief and frustration into bold\, state-level action. This is our moment to push for real solutions and dialogue with our elected officials to ensure that Indigenous rights and climate justice remain top priorities in Minnesota!\n\nInside the Capitol: Legislative Meetings & Advocacy\nThroughout the day we’ll engage directly with legislators in scheduled meetings to ask for a “Yes” vote on critical climate legislation including the Wild Rice Act (SF 1246)\, 100% eWaste Collection & Recycling Bill and others from the Rise & Repair alliance platform (RiseAndRepair.org/platform).\nWhether you’re an experienced advocate or new to this work\, you’ll be supported in making your voice heard. Organizers with the Rise & Repair Alliance will be scheduling these meetings based on constituents in each district who RSVP at RiseAndRepair.org/rally.\n\nPeople Power ~ Rally in the Rotunda! (1:15-2pm)As scheduled visits are happen across the capitol complex\, we’ll assemble in the rotunda for a rally to amplify our message ~ Minnesota’s legislature must take bold action for climate justice and do so with the guidance\, wisdom\, and direction of Indigenous relatives who have always been\, and will forever be\, the caretakers of these lands.\n\nSCHEDULE & HOW TO PARTICIPATE\nFull Day Engagement:10:00 AM – Advocacy training\, prep session\, and morning coffee at Christ on Capitol Hill (105 University Ave W\, across from the Capitol)11:45a – 12:20p – Light lunch served before walking across the street to CapitolLegislative visits throughout the day pending legislator schedules (most 2-4pm)Joining us for the Rally:12:45 PM – Assemble on the Capitol steps1:15–2:00 PM – Rally in the Rotunda!!\nNow is the time to dig deep\, unite\, and push for the change we know is possible. When we stand together\, we are a powerful force capable of accomplishing what this moment demands. We have the power to protect wild rice\, freshwater\, and biodiversity—our sacred life sources that need our care now more than ever. Let’s move forward with hope\, resilience\, and the strength of our collective will.\n\nRSVP & Learn More: RiseAndRepair.org/rally
URL:https://www.mnipl.org/event/rise-repair-2025-rally-lobby-day/
LOCATION:Minnesota State Capitol\, 75 Rev Dr Martin Luther King Jr Blvd\, Saint Paul\, MN\, 55155
CATEGORIES:Policy & Advocacy
ATTACH;FMTTYPE=image/jpeg:https://www.mnipl.org/wp-content/uploads/RiseAndRepair-event-cover-Alt3-RallyDay2025-1600px-1.jpg
ORGANIZER;CN="Rise & Repair":MAILTO:info@riseandrepair.org
END:VEVENT
BEGIN:VEVENT
DTSTART;TZID=America/Chicago:20251120T160000
DTEND;TZID=America/Chicago:20251120T171500
DTSTAMP:20260424T184209
CREATED:20251118T000037Z
LAST-MODIFIED:20251118T000255Z
UID:10001386-1763654400-1763658900@www.mnipl.org
SUMMARY:November Policy Team Meeting
DESCRIPTION:Engaging in policy brings climate action to scale – and everyone has a voice to share. This month we’ll talk about what we’re learning from COP 30 and how we can work meaningfully in this moment of our planet’s climate crisis. We’ll also cover actions that are important to bring to our policymakers now. \nCLICK HERE TO RSVP!
URL:https://www.mnipl.org/event/november-policy-team-meeting/
LOCATION:Zoom
CATEGORIES:Policy & Advocacy
ATTACH;FMTTYPE=image/png:https://www.mnipl.org/wp-content/uploads/November-Policy-Team-Meeting.png
ORGANIZER;CN="Sara Wolff":MAILTO:sara@mnipl.org
END:VEVENT
BEGIN:VEVENT
DTSTART;TZID=America/Chicago:20251211T160000
DTEND;TZID=America/Chicago:20251211T171500
DTSTAMP:20260424T184209
CREATED:20251118T001302Z
LAST-MODIFIED:20251118T001515Z
UID:10001387-1765468800-1765473300@www.mnipl.org
SUMMARY:December Policy Team Meeting
DESCRIPTION:MNIPL has several legislative goals we’re aiming to support this session. Learn about them and see what might resonate for your community group or congregation. We’ll be planning ways to support this work at the State Capitol this year. \nCLICK HERE TO RSVP!
URL:https://www.mnipl.org/event/december-policy-team-meeting/
LOCATION:Zoom
CATEGORIES:Policy & Advocacy
ATTACH;FMTTYPE=image/png:https://www.mnipl.org/wp-content/uploads/December-Policy-Team-Meeting.png
ORGANIZER;CN="Sara Wolff":MAILTO:sara@mnipl.org
END:VEVENT
END:VCALENDAR