BEGIN:VCALENDAR
VERSION:2.0
PRODID:-//Minnesota Interfaith Power &amp; Light - ECPv6.15.20//NONSGML v1.0//EN
CALSCALE:GREGORIAN
METHOD:PUBLISH
X-WR-CALNAME:Minnesota Interfaith Power &amp; Light
X-ORIGINAL-URL:https://www.mnipl.org
X-WR-CALDESC:Events for Minnesota Interfaith Power &amp; Light
REFRESH-INTERVAL;VALUE=DURATION:PT1H
X-Robots-Tag:noindex
X-PUBLISHED-TTL:PT1H
BEGIN:VTIMEZONE
TZID:America/Chicago
BEGIN:DAYLIGHT
TZOFFSETFROM:-0600
TZOFFSETTO:-0500
TZNAME:CDT
DTSTART:20250309T080000
END:DAYLIGHT
BEGIN:STANDARD
TZOFFSETFROM:-0500
TZOFFSETTO:-0600
TZNAME:CST
DTSTART:20251102T070000
END:STANDARD
BEGIN:DAYLIGHT
TZOFFSETFROM:-0600
TZOFFSETTO:-0500
TZNAME:CDT
DTSTART:20260308T080000
END:DAYLIGHT
BEGIN:STANDARD
TZOFFSETFROM:-0500
TZOFFSETTO:-0600
TZNAME:CST
DTSTART:20261101T070000
END:STANDARD
BEGIN:DAYLIGHT
TZOFFSETFROM:-0600
TZOFFSETTO:-0500
TZNAME:CDT
DTSTART:20270314T080000
END:DAYLIGHT
BEGIN:STANDARD
TZOFFSETFROM:-0500
TZOFFSETTO:-0600
TZNAME:CST
DTSTART:20271107T070000
END:STANDARD
END:VTIMEZONE
BEGIN:VEVENT
DTSTART;TZID=America/Chicago:20260429T120000
DTEND;TZID=America/Chicago:20260429T130000
DTSTAMP:20260422T052713
CREATED:20251117T174652Z
LAST-MODIFIED:20260416T193919Z
UID:10001385-1777464000-1777467600@www.mnipl.org
SUMMARY:Reparations Learning Lab April 2026
DESCRIPTION:Today\, the trauma and destruction of the Doctrine of Discovery surrounds us. We’ve felt it in Operation Metro Surge. We heard it in the Legislature’s opposition to protection for wild rice. And it is the heart of Representative Stauber’s effort to mine the Boundary Waters. \nIn this learning lab\, Jim Bear Jacobs and Jessica Intermill will continue our exploration of the role of the Doctrine of Discovery in our lives today. \nWe’ll move away from lecture-style learning toward deep conversation\, and we’ll answer your questions about how the Doctrine shows up in today’s world and intersects with reparatory work. \nCLICK HERE TO RSVP!
URL:https://www.mnipl.org/event/apr_learning_lab/
LOCATION:Zoom
CATEGORIES:Reparations Learning Labs
ATTACH;FMTTYPE=image/png:https://www.mnipl.org/wp-content/uploads/Reparations-Learning-Labs-April-2026.png
ORGANIZER;CN="Liz Loeb":MAILTO:liz@mnipl.org
END:VEVENT
END:VCALENDAR