BEGIN:VCALENDAR
VERSION:2.0
PRODID:-//Minnesota Interfaith Power &amp; Light - ECPv6.15.20//NONSGML v1.0//EN
CALSCALE:GREGORIAN
METHOD:PUBLISH
X-WR-CALNAME:Minnesota Interfaith Power &amp; Light
X-ORIGINAL-URL:https://www.mnipl.org
X-WR-CALDESC:Events for Minnesota Interfaith Power &amp; Light
REFRESH-INTERVAL;VALUE=DURATION:PT1H
X-Robots-Tag:noindex
X-PUBLISHED-TTL:PT1H
BEGIN:VTIMEZONE
TZID:America/Chicago
BEGIN:DAYLIGHT
TZOFFSETFROM:-0600
TZOFFSETTO:-0500
TZNAME:CDT
DTSTART:20240310T080000
END:DAYLIGHT
BEGIN:STANDARD
TZOFFSETFROM:-0500
TZOFFSETTO:-0600
TZNAME:CST
DTSTART:20241103T070000
END:STANDARD
BEGIN:DAYLIGHT
TZOFFSETFROM:-0600
TZOFFSETTO:-0500
TZNAME:CDT
DTSTART:20250309T080000
END:DAYLIGHT
BEGIN:STANDARD
TZOFFSETFROM:-0500
TZOFFSETTO:-0600
TZNAME:CST
DTSTART:20251102T070000
END:STANDARD
BEGIN:DAYLIGHT
TZOFFSETFROM:-0600
TZOFFSETTO:-0500
TZNAME:CDT
DTSTART:20260308T080000
END:DAYLIGHT
BEGIN:STANDARD
TZOFFSETFROM:-0500
TZOFFSETTO:-0600
TZNAME:CST
DTSTART:20261101T070000
END:STANDARD
END:VTIMEZONE
BEGIN:VEVENT
DTSTART;TZID=America/Chicago:20250919T120000
DTEND;TZID=America/Chicago:20250919T140000
DTSTAMP:20260423T053230
CREATED:20250829T160343Z
LAST-MODIFIED:20250918T174928Z
UID:10001372-1758283200-1758290400@www.mnipl.org
SUMMARY:Soaring Forward with Solar
DESCRIPTION:Join us for a celebration of the new solar array at the Celtic Junction Arts Center and learn how non-profits across the state can benefit from solar partnerships and green financing from the Minnesota Climate Innovation Finance Authority (MnCIFA)! \nThe event will include lunch and remarks from the Governor’s Office\, elected officials\, MnCIFA leaders\, and local architects. You’ll also have the opportunity to tour the Celtic Junction Arts Center solar array and learn more about how 8 non-profits are installing solar arrays with zero money down. \nCLICK HERE TO RSVP \nAgenda: \n\n12:00 Gather\, lunch\, and live music\n12:30 Press Conference and short address by MnCIFA\, the Governor’s Office and solar equity partners (Lake Street Solar\, MNIPL and Apadana)\n1:00 Tour and conversation about how this process worked and how other non-profit or communities of faith\, conscience\, or spiritual practice can be part of the next portfolio\n\nCLICK HERE TO RSVP
URL:https://www.mnipl.org/event/soaring-forward-with-solar/
LOCATION:Celtic Junction Arts Center\, 836 Prior Ave N\, St Paul\, 55104\, United States
CATEGORIES:Solar
ATTACH;FMTTYPE=image/png:https://www.mnipl.org/wp-content/uploads/Solar-Celebration-Updated.png
ORGANIZER;CN="Julia Nerbonne":MAILTO:julia@mnipl.org
END:VEVENT
END:VCALENDAR