BEGIN:VCALENDAR
VERSION:2.0
PRODID:-//Minnesota Interfaith Power &amp; Light - ECPv6.15.20//NONSGML v1.0//EN
CALSCALE:GREGORIAN
METHOD:PUBLISH
X-WR-CALNAME:Minnesota Interfaith Power &amp; Light
X-ORIGINAL-URL:https://www.mnipl.org
X-WR-CALDESC:Events for Minnesota Interfaith Power &amp; Light
REFRESH-INTERVAL;VALUE=DURATION:PT1H
X-Robots-Tag:noindex
X-PUBLISHED-TTL:PT1H
BEGIN:VTIMEZONE
TZID:America/Chicago
BEGIN:DAYLIGHT
TZOFFSETFROM:-0600
TZOFFSETTO:-0500
TZNAME:CDT
DTSTART:20220313T080000
END:DAYLIGHT
BEGIN:STANDARD
TZOFFSETFROM:-0500
TZOFFSETTO:-0600
TZNAME:CST
DTSTART:20221106T070000
END:STANDARD
BEGIN:DAYLIGHT
TZOFFSETFROM:-0600
TZOFFSETTO:-0500
TZNAME:CDT
DTSTART:20230312T080000
END:DAYLIGHT
BEGIN:STANDARD
TZOFFSETFROM:-0500
TZOFFSETTO:-0600
TZNAME:CST
DTSTART:20231105T070000
END:STANDARD
BEGIN:DAYLIGHT
TZOFFSETFROM:-0600
TZOFFSETTO:-0500
TZNAME:CDT
DTSTART:20240310T080000
END:DAYLIGHT
BEGIN:STANDARD
TZOFFSETFROM:-0500
TZOFFSETTO:-0600
TZNAME:CST
DTSTART:20241103T070000
END:STANDARD
END:VTIMEZONE
BEGIN:VEVENT
DTSTART;TZID=America/Chicago:20231105T160000
DTEND;TZID=America/Chicago:20231105T170000
DTSTAMP:20260419T192531
CREATED:20231030T193859Z
LAST-MODIFIED:20231030T194253Z
UID:10001280-1699200000-1699203600@www.mnipl.org
SUMMARY:Voices for Climate Song Circle - November 2023
DESCRIPTION:Join our November Voices for Climate Song Circle either in person at United Theological Seminary or on Zoom. \nNo need to be a “singer;” all voices welcome\, including kids! Sarina Partridge will lead simple songs that all can join\, and help us experience the joy\, hope\, and community that is possible through music-making! \nPlease register for the Zoom link and so we can let you know of any updates to the event. Following the song circle\, there will be a potluck dinner from 5 – 6:30 pm for those at United. Bring a dish or beverage to share. \nPlease also keep in mind that November 5 is the day we turn back the clocks back to Standard Time! \nCLICK HERE TO REGISTER\n\nVoices for Climate is a monthly in-person song circle led by Sarina Partridge\, MNIPL’s Songleader and Organizer. They will alternate locations between the Twin Cities metro area and Greater Minnesota. In this circle\, we sing for joy and connection\, not performance or perfection. All voices are welcome. No need to read music or think of yourself as a “singer” to participate! Come meet others\, sing together\, and learn about climate justice action we can plug into. Click here to learn more about the series.
URL:https://www.mnipl.org/event/voices-for-climate-song-circle-november-2023/
LOCATION:United Theological Seminary\, 767 N. Eustis St. #140\, St. Paul\, MN\, 55114\, United States
ATTACH;FMTTYPE=image/png:https://www.mnipl.org/wp-content/uploads/Voices-for-Climate-Nov-5.png
ORGANIZER;CN="Sarina Partridge":MAILTO:sarina@mnipl.org
END:VEVENT
BEGIN:VEVENT
DTSTART;TZID=America/Chicago:20231107T160000
DTEND;TZID=America/Chicago:20231107T170000
DTSTAMP:20260419T192531
CREATED:20230711T215305Z
LAST-MODIFIED:20231026T203423Z
UID:10001253-1699372800-1699376400@www.mnipl.org
SUMMARY:Community Connector Circle - 1st Tuesday
DESCRIPTION:Do you share information from MNIPL and opportunities to act for climate justice with your congregation\, community\, or team in any way? We invite you to be part of our Community Connector Circle! In this working group\, we’ll share ideas\, ask questions\, celebrate successes\, and get to know each other. \nWe meet on the 1st Tuesday of each month at 4 pm. Come as often as you like! No registration is required. Simply click this link to join.
URL:https://www.mnipl.org/event/community-connector-circle-1st-tuesday-3/2023-11-07/
LOCATION:Zoom
CATEGORIES:Community Connector Circle
ORGANIZER;CN="Buff Grace":MAILTO:buff@mnipl.org
END:VEVENT
BEGIN:VEVENT
DTSTART;TZID=America/Chicago:20231108T120000
DTEND;TZID=America/Chicago:20231108T130000
DTSTAMP:20260419T192531
CREATED:20231030T185653Z
LAST-MODIFIED:20231031T211054Z
UID:10001279-1699444800-1699448400@www.mnipl.org
SUMMARY:A Call for Global Repair
DESCRIPTION:Join MNIPL and our partners at ActionAid USA for an important presentation and discussion on international climate justice! \nCLICK HERE TO SIGN UP \nGlobal systems of extraction and greed have exacerbated an unequal world\, one where the countries who have benefited least face the most dire consequences of climate change. We believe that in order to address the impacts of global climate change\, the countries whose governments and corporations have caused the most harm to the planet and its people must pay their fair share to repair it. \nStaff and board members of MNIPL will share about how our organization has taken action to redress global harms\, from helping to rebuild after floods in Bangladesh to working with local\, national\, and international organizers in successfully pushing the United States to commit to funding for global repair. \nSpecial guest Brandon Wu of ActionAid will share about what has happened over the last year since this funding was committed and talk about where we go from here. Your support is desperately needed to make sure the US makes good on its promises and commits to funding repair in way that ensures that those most impacted by climate change decide what repair looks like for them — not the US. \nCome for a light lunch and dialogue and leave with a renewed promise to help the US to show up globally in a way that promotes justice and peace. \n 
URL:https://www.mnipl.org/event/a-call-for-global-repair/
LOCATION:Plymouth Congregational Church\, 1900 Nicollet Ave.\, Minneapolis\, MN\, 55406\, United States
CATEGORIES:Community Event,Policy & Advocacy
ATTACH;FMTTYPE=image/png:https://www.mnipl.org/wp-content/uploads/A-Call-for-Global-Repair-Event-Updated.png
ORGANIZER;CN="Julia Nerbonne":MAILTO:julia@mnipl.org
END:VEVENT
BEGIN:VEVENT
DTSTART;TZID=America/Chicago:20231114T180000
DTEND;TZID=America/Chicago:20231114T193000
DTSTAMP:20260419T192531
CREATED:20231013T203521Z
LAST-MODIFIED:20231013T203521Z
UID:10001278-1699984800-1699990200@www.mnipl.org
SUMMARY:Rise + Repair 2024 Launch
DESCRIPTION:Along with many community partners\, we are gearing up for the 2024 Legislative Session.  \nJoin us to learn more about how Rise and Repair can be a vehicle for you to achieve your legislative priorities next year and for Minnesotans of faith across Minnesota to amplify and support Indigenous Rights and Climate Justice with their elected officials. \nCLICK HERE TO REGISTER
URL:https://www.mnipl.org/event/rise-repair-2024-launch/
LOCATION:Zoom
ATTACH;FMTTYPE=image/png:https://www.mnipl.org/wp-content/uploads/Rise-Repair-November-2024-Launch.png
ORGANIZER;CN="Juventino Meza":MAILTO:juventino@mnipl.org
END:VEVENT
BEGIN:VEVENT
DTSTART;TZID=America/Chicago:20231115T120000
DTEND;TZID=America/Chicago:20231115T130000
DTSTAMP:20260419T192531
CREATED:20230913T184432Z
LAST-MODIFIED:20230914T183759Z
UID:10001272-1700049600-1700053200@www.mnipl.org
SUMMARY:Reparations Learning Lab: November 15\, 2023
DESCRIPTION:Thank you for signing up to be part of the Reparations Learning Labs! These sessions will build a community of doers who are committed to repairing the harms of colonization through action. Being a part of these labs will help support your commitment to the forever work of decolonizing yourselves and your communities. \nThis session’s focus is to-be-determined. \nThese learning labs are geared towards white folks who are committed to taking action — BIPOC folks who are interested in that work are also welcome!  \nThis session is free to attend\, but we will ask that everyone who participates commits to doing something — either making a donation to support our BIPOC Reparations Advisory Table or by sharing our reparations work with a friend or neighbor. \nCLICK HERE TO SIGN UP
URL:https://www.mnipl.org/event/reparations-learning-lab-november-15-2023/
LOCATION:Zoom
CATEGORIES:Reparations Learning Labs
ATTACH;FMTTYPE=image/png:https://www.mnipl.org/wp-content/uploads/Reparations-Learning-Labs-November.png
ORGANIZER;CN="Liz Loeb":MAILTO:liz@mnipl.org
END:VEVENT
BEGIN:VEVENT
DTSTART;TZID=America/Chicago:20231120T180000
DTEND;TZID=America/Chicago:20231120T190000
DTSTAMP:20260419T192531
CREATED:20231108T165724Z
LAST-MODIFIED:20231115T160921Z
UID:10001282-1700503200-1700506800@www.mnipl.org
SUMMARY:The State of Global Repair
DESCRIPTION:We need you to show your support for the people and organizations that are pushing our government to honor its commitment to create a Loss and Damage Fund — and to put the fund in the hands of those countries most effected by climate disruption. \nJoin us in a national call-to-action with Rep. Ilhan Omar hosted by MNIPL\, Justice is Global\, Union of Concerned Scientists\, and Action Aid\, where you’ll learn about the state of play in 2023\, the ever-growing importance of committing to global repair\, and how to take action. \nRep. Ilhan Omar will share how she is challenging her colleagues in Congress to make good on Loss and Damage. Brandon Wu at Action Aide and Rachel Cleetus of the Union of Concerned Scientists will share expertise on the need for global repair\, and you’ll hear from youth from Cameroon to the Philippines who will tell stories of their activism in repairing the places they’ve called home. \nCLICK HERE TO SIGN UP
URL:https://www.mnipl.org/event/the-state-of-global-repair/
LOCATION:Zoom
ATTACH;FMTTYPE=image/png:https://www.mnipl.org/wp-content/uploads/The-State-of-Global-Repair-updated-w.-logos.png
END:VEVENT
END:VCALENDAR